BEGIN:VCALENDAR
VERSION:2.0
PRODID:-//pretix//pretix.eu//
BEGIN:VTIMEZONE
TZID:Europe/Berlin
BEGIN:STANDARD
DTSTART:20001029T040000
RRULE:FREQ=YEARLY;BYDAY=-1SU;BYMONTH=10
TZNAME:CET
TZOFFSETFROM:+0200
TZOFFSETTO:+0100
END:STANDARD
BEGIN:DAYLIGHT
DTSTART:20000326T030000
RRULE:FREQ=YEARLY;BYDAY=-1SU;BYMONTH=3
TZNAME:CEST
TZOFFSETFROM:+0100
TZOFFSETTO:+0200
END:DAYLIGHT
END:VTIMEZONE
BEGIN:VEVENT
UID:pretix-hsg-hunsrueck-ha-1-herren-2654206@hsg-hunsrueck.vereinsticket.de
DTSTART;TZID=Europe/Berlin:20211106T193000
DTEND;TZID=Europe/Berlin:20211106T203000
DESCRIPTION:Tickets: https://hsg-hunsrueck.vereinsticket.de/ha-1-herren/265
 4206/\nVeranstalter: HSG Hunsrück
DTSTAMP:20260421T074414Z
LOCATION:Sporthalle Schulzentrum Sohren
SUMMARY:HSG Hunsrück - HSG Römerwall
END:VEVENT
END:VCALENDAR
