BEGIN:VCALENDAR
VERSION:2.0
PRODID:-//pretix//pretix.eu//
BEGIN:VTIMEZONE
TZID:Europe/Berlin
BEGIN:STANDARD
DTSTART:20001029T040000
RRULE:FREQ=YEARLY;BYDAY=-1SU;BYMONTH=10
TZNAME:CET
TZOFFSETFROM:+0200
TZOFFSETTO:+0100
END:STANDARD
BEGIN:DAYLIGHT
DTSTART:20000326T030000
RRULE:FREQ=YEARLY;BYDAY=-1SU;BYMONTH=3
TZNAME:CEST
TZOFFSETFROM:+0100
TZOFFSETTO:+0200
END:DAYLIGHT
END:VTIMEZONE
BEGIN:VEVENT
UID:pretix-hsg-hunsrueck-ha-1-damen-3059370@hsg-hunsrueck.vereinsticket.de
DTSTART;TZID=Europe/Berlin:20220217T000000
DTEND;TZID=Europe/Berlin:20220217T010000
DESCRIPTION:Tickets: https://hsg-hunsrueck.vereinsticket.de/ha-1-damen/3059
 370/\nVeranstalter: HSG Hunsrück
DTSTAMP:20260421T020058Z
LOCATION:Hirtenfeldhalle Kleinlich\, Ortsstraße 38\, 54483 Kleinich
SUMMARY:HSG Hunsrück - HSG Freiburg
END:VEVENT
END:VCALENDAR
