BEGIN:VCALENDAR
VERSION:2.0
PRODID:-//pretix//pretix.eu//
BEGIN:VTIMEZONE
TZID:Europe/Berlin
BEGIN:STANDARD
DTSTART:20001029T040000
RRULE:FREQ=YEARLY;BYDAY=-1SU;BYMONTH=10
TZNAME:CET
TZOFFSETFROM:+0200
TZOFFSETTO:+0100
END:STANDARD
BEGIN:DAYLIGHT
DTSTART:20000326T030000
RRULE:FREQ=YEARLY;BYDAY=-1SU;BYMONTH=3
TZNAME:CEST
TZOFFSETFROM:+0100
TZOFFSETTO:+0200
END:DAYLIGHT
END:VTIMEZONE
BEGIN:VEVENT
UID:pretix-hsg-hunsrueck-ha-1-damen-2622519@hsg-hunsrueck.vereinsticket.de
DTSTART;TZID=Europe/Berlin:20211009T200000
DTEND;TZID=Europe/Berlin:20211009T210000
DESCRIPTION:Tickets: https://hsg-hunsrueck.vereinsticket.de/ha-1-damen/2622
 519/\nVeranstalter: HSG Hunsrück
DTSTAMP:20260421T093039Z
LOCATION:Hirtenfeldhalle Kleinich
SUMMARY:HSG Hunsrück - SG Schozach-Bottwartal
END:VEVENT
END:VCALENDAR
